Workbook

Sheet Best researcher award input she
A2: Instructions: 1. Insert appropriate number of rows as desired during filling the form, 2. white is for information entry 3. yellow is for specific values entering and red shaded is the auto summing
A3: 1 | B3: Research supervision
A4: S.No. | B4: Name of thesis | C4: Role (Fill the values indicated in each bracked which so ever is suitable) | D4: Year | E4: Points claimed
C5: Enter1 for single supervisor, 2 for main supervisor and 3 for co supervisor
E6: =IF(C6=1,5,0)+IF(C6=2,3,0)+IF(C6=3,2,0) -> 0
E7: =IF(C7=1,5,0)+IF(C7=2,3,0)+IF(C7=3,2,0) -> 0
E8: =IF(C8=1,5,0)+IF(C8=2,3,0)+IF(C8=3,2,0) -> 0
E9: =IF(C9=1,5,0)+IF(C9=2,3,0)+IF(C9=3,2,0) -> 0
E10: =IF(C10=1,5,0)+IF(C10=2,3,0)+IF(C10=3,2,0) -> 0
E11: =IF(C11=1,5,0)+IF(C11=2,3,0)+IF(C11=3,2,0) -> 0
E12: =IF(C12=1,5,0)+IF(C12=2,3,0)+IF(C12=3,2,0) -> 0
A13: Total of the category | E13: =SUM(E6:E12) -> 0
A14: 2 | B14: Journal Publication
A15: S.No. | B15: Title of paper | C15: Name of journal | D15: Role (enter 1 for main author/ 2 for co author) | E15: SCI/Scopus/SCIE (enter 1 for SCI/SSCE, 2 for Scopus) | F15: Web link to establish it SCI through clarivate and excel row number in the provided excel sheet for scopus) | G15: Impact factor (establish it through the web link) | H15: Impact factor claim (enter the impact factor value | I15: Whether (National / International) | J15: ISBN/ISSN/DOI no. * | K15: web link to establish DOI | L15: Publication Date/month/year | M15: Number of authors | N15: Points claimed
N16: =IF(AND(D16=1, E16=1, H16>=1.5),4,0)+ IF(AND(D16=2,E16=1,H16>=1.5),4/M16,0)+IF(AND(D16=1,E16=1,H16<1.5),2,0)+IF(AND(D16=2,E16=1,H16<1.5),2/M16,0)+IF(AND(D16=1,E16=2),2,0)+IF(AND(D16=2,E16=2),2/M16,0) -> 0
N17: =IF(AND(D17=1, E17=1, H17>=1.5),4,0)+ IF(AND(D17=2,E17=1,H17>=1.5),4/M17,0)+IF(AND(D17=1,E17=1,H17<1.5),2,0)+IF(AND(D17=2,E17=1,H17<1.5),2/M17,0)+IF(AND(D17=1,E17=2),2,0)+IF(AND(D17=2,E17=2),2/M17,0) -> 0
N18: =IF(AND(D18=1, E18=1, H18>=1.5),4,0)+ IF(AND(D18=2,E18=1,H18>=1.5),4/M18,0)+IF(AND(D18=1,E18=1,H18<1.5),2,0)+IF(AND(D18=2,E18=1,H18<1.5),2/M18,0)+IF(AND(D18=1,E18=2),2,0)+IF(AND(D18=2,E18=2),2/M18,0) -> 0
N19: =IF(AND(D19=1, E19=1, H19>=1.5),4,0)+ IF(AND(D19=2,E19=1,H19>=1.5),4/M19,0)+IF(AND(D19=1,E19=1,H19<1.5),2,0)+IF(AND(D19=2,E19=1,H19<1.5),2/M19,0)+IF(AND(D19=1,E19=2),2,0)+IF(AND(D19=2,E19=2),2/M19,0) -> 0
N20: =IF(AND(D20=1, E20=1, H20>=1.5),4,0)+ IF(AND(D20=2,E20=1,H20>=1.5),4/M20,0)+IF(AND(D20=1,E20=1,H20<1.5),2,0)+IF(AND(D20=2,E20=1,H20<1.5),2/M20,0)+IF(AND(D20=1,E20=2),2,0)+IF(AND(D20=2,E20=2),2/M20,0) -> 0
N21: =IF(AND(D21=1, E21=1, H21>=1.5),4,0)+ IF(AND(D21=2,E21=1,H21>=1.5),4/M21,0)+IF(AND(D21=1,E21=1,H21<1.5),2,0)+IF(AND(D21=2,E21=1,H21<1.5),2/M21,0)+IF(AND(D21=1,E21=2),2,0)+IF(AND(D21=2,E21=2),2/M21,0) -> 0
N22: =IF(AND(D22=1, E22=1, H22>=1.5),4,0)+ IF(AND(D22=2,E22=1,H22>=1.5),4/M22,0)+IF(AND(D22=1,E22=1,H22<1.5),2,0)+IF(AND(D22=2,E22=1,H22<1.5),2/M22,0)+IF(AND(D22=1,E22=2),2,0)+IF(AND(D22=2,E22=2),2/M22,0) -> 0
N23: =IF(AND(D23=1, E23=1, H23>=1.5),4,0)+ IF(AND(D23=2,E23=1,H23>=1.5),4/M23,0)+IF(AND(D23=1,E23=1,H23<1.5),2,0)+IF(AND(D23=2,E23=1,H23<1.5),2/M23,0)+IF(AND(D23=1,E23=2),2,0)+IF(AND(D23=2,E23=2),2/M23,0) -> 0
N24: =IF(AND(D24=1, E24=1, H24>=1.5),4,0)+ IF(AND(D24=2,E24=1,H24>=1.5),4/M24,0)+IF(AND(D24=1,E24=1,H24<1.5),2,0)+IF(AND(D24=2,E24=1,H24<1.5),2/M24,0)+IF(AND(D24=1,E24=2),2,0)+IF(AND(D24=2,E24=2),2/M24,0) -> 0
N25: =IF(AND(D25=1, E25=1, H25>=1.5),4,0)+ IF(AND(D25=2,E25=1,H25>=1.5),4/M25,0)+IF(AND(D25=1,E25=1,H25<1.5),2,0)+IF(AND(D25=2,E25=1,H25<1.5),2/M25,0)+IF(AND(D25=1,E25=2),2,0)+IF(AND(D25=2,E25=2),2/M25,0) -> 0
N26: =IF(AND(D26=1, E26=1, H26>=1.5),4,0)+ IF(AND(D26=2,E26=1,H26>=1.5),4/M26,0)+IF(AND(D26=1,E26=1,H26<1.5),2,0)+IF(AND(D26=2,E26=1,H26<1.5),2/M26,0)+IF(AND(D26=1,E26=2),2,0)+IF(AND(D26=2,E26=2),2/M26,0) -> 0
N27: =IF(AND(D27=1, E27=1, H27>=1.5),4,0)+ IF(AND(D27=2,E27=1,H27>=1.5),4/M27,0)+IF(AND(D27=1,E27=1,H27<1.5),2,0)+IF(AND(D27=2,E27=1,H27<1.5),2/M27,0)+IF(AND(D27=1,E27=2),2,0)+IF(AND(D27=2,E27=2),2/M27,0) -> 0
... N36: =IF(AND(D36=1, E36=1, H36>=1.5),4,0)+ IF(AND(D36=2,E36=1,H36>=1.5),4/M36,0)+IF(AND(D36=1,E36=1,H36<1.5),2,0)+IF(AND(D36=2,E36=1,H36<1.5),2/M36,0)+IF(AND(D36=1,E36=2),2,0)+IF(AND(D36=2,E36=2),2/M36,0) -> 0
A37: Total for the category | N37: =SUM(N16:N36) -> 0
A38: 3 | B38: Conference Publications/Presentations
A39: S.No. | B39: Title of paper | C39: Name of Conference | D39: Role (main author/ co author) (enter 1 for main, 2 for co) | E39: International/national (enter 1 for international, 2 for national) | F39: No. Of authors | G39: Points claimed
G40: =IF(AND(D40=1,E40=1), 1.5,0)+IF(AND(D40=2,E40=1), 1.5/F40,0)+IF(AND(D40=1,E40=2),1,0)+IF(AND(D40=2,E40=2),1/F40,0) -> 0
G41: =IF(AND(D41=1,E41=1), 1.5,0)+IF(AND(D41=2,E41=1), 1.5/F41,0)+IF(AND(D41=1,E41=2),1,0)+IF(AND(D41=2,E41=2),1/F41,0) -> 0
G42: =IF(AND(D42=1,E42=1), 1.5,0)+IF(AND(D42=2,E42=1), 1.5/F42,0)+IF(AND(D42=1,E42=2),1,0)+IF(AND(D42=2,E42=2),1/F42,0) -> 0
G43: =IF(AND(D43=1,E43=1), 1.5,0)+IF(AND(D43=2,E43=1), 1.5/F43,0)+IF(AND(D43=1,E43=2),1,0)+IF(AND(D43=2,E43=2),1/F43,0) -> 0
G44: =IF(AND(D44=1,E44=1), 1.5,0)+IF(AND(D44=2,E44=1), 1.5/F44,0)+IF(AND(D44=1,E44=2),1,0)+IF(AND(D44=2,E44=2),1/F44,0) -> 0
G45: =IF(AND(D45=1,E45=1), 1.5,0)+IF(AND(D45=2,E45=1), 1.5/F45,0)+IF(AND(D45=1,E45=2),1,0)+IF(AND(D45=2,E45=2),1/F45,0) -> 0
G46: =IF(AND(D46=1,E46=1), 1.5,0)+IF(AND(D46=2,E46=1), 1.5/F46,0)+IF(AND(D46=1,E46=2),1,0)+IF(AND(D46=2,E46=2),1/F46,0) -> 0
G47: =IF(AND(D47=1,E47=1), 1.5,0)+IF(AND(D47=2,E47=1), 1.5/F47,0)+IF(AND(D47=1,E47=2),1,0)+IF(AND(D47=2,E47=2),1/F47,0) -> 0
G48: =IF(AND(D48=1,E48=1), 1.5,0)+IF(AND(D48=2,E48=1), 1.5/F48,0)+IF(AND(D48=1,E48=2),1,0)+IF(AND(D48=2,E48=2),1/F48,0) -> 0
G49: =IF(AND(D49=1,E49=1), 1.5,0)+IF(AND(D49=2,E49=1), 1.5/F49,0)+IF(AND(D49=1,E49=2),1,0)+IF(AND(D49=2,E49=2),1/F49,0) -> 0
G50: =IF(AND(D50=1,E50=1), 1.5,0)+IF(AND(D50=2,E50=1), 1.5/F50,0)+IF(AND(D50=1,E50=2),1,0)+IF(AND(D50=2,E50=2),1/F50,0) -> 0
G51: =IF(AND(D51=1,E51=1), 1.5,0)+IF(AND(D51=2,E51=1), 1.5/F51,0)+IF(AND(D51=1,E51=2),1,0)+IF(AND(D51=2,E51=2),1/F51,0) -> 0
... G58: =IF(AND(D58=1,E58=1), 1.5,0)+IF(AND(D58=2,E58=1), 1.5/F58,0)+IF(AND(D58=1,E58=2),1,0)+IF(AND(D58=2,E58=2),1/F58,0) -> 0
A59: Total for the category | G59: =SUM(G40:G58) -> 0
A60: 4 | B60: Externally funded research project (Sanctioned projects/grant during the evaluation period, with relaese of at least first instalment)
A61: S.No. | B61: Department | C61: Project Title | D61: Role : PI/Co-PI (enter 1 for PI and 2 for Co-PI) | E61: Nature of Project-Sponsord/ Innovation incubation/ Research/ Commercial/ Other | F61: Sponsored by - Academic institution/ R&D Institution/ State Govt body/ central Govt. Body/ industry/ Other | G61: Total Project Fund (Rs) | H61: Date from dd/mm/yyyy | I61: Date To dd/mm/yyyy | J61: Joint belong to National/ International | K61: Points claimed
K62: =IF(AND(D62=1,G62>=1000000),8,0)+IF(AND(D62=1,G62<1000000),4,0)+IF(AND(D62=2,G62>=1000000),4,0)+IF(AND(D62=2,G62<1000000),2,0) -> 0
K63: =IF(AND(D63=1,G63>=1000000),8,0)+IF(AND(D63=1,G63<1000000),4,0)+IF(AND(D63=2,G63>=1000000),4,0)+IF(AND(D63=2,G63<1000000),2,0) -> 0
K64: =IF(AND(D64=1,G64>=1000000),8,0)+IF(AND(D64=1,G64<1000000),4,0)+IF(AND(D64=2,G64>=1000000),4,0)+IF(AND(D64=2,G64<1000000),2,0) -> 0
K65: =IF(AND(D65=1,G65>=1000000),8,0)+IF(AND(D65=1,G65<1000000),4,0)+IF(AND(D65=2,G65>=1000000),4,0)+IF(AND(D65=2,G65<1000000),2,0) -> 0
K66: =IF(AND(D66=1,G66>=1000000),8,0)+IF(AND(D66=1,G66<1000000),4,0)+IF(AND(D66=2,G66>=1000000),4,0)+IF(AND(D66=2,G66<1000000),2,0) -> 0
K67: =IF(AND(D67=1,G67>=1000000),8,0)+IF(AND(D67=1,G67<1000000),4,0)+IF(AND(D67=2,G67>=1000000),4,0)+IF(AND(D67=2,G67<1000000),2,0) -> 0
K68: =IF(AND(D68=1,G68>=1000000),8,0)+IF(AND(D68=1,G68<1000000),4,0)+IF(AND(D68=2,G68>=1000000),4,0)+IF(AND(D68=2,G68<1000000),2,0) -> 0
K69: =IF(AND(D69=1,G69>=1000000),8,0)+IF(AND(D69=1,G69<1000000),4,0)+IF(AND(D69=2,G69>=1000000),4,0)+IF(AND(D69=2,G69<1000000),2,0) -> 0
A70: Total for the category | K70: =SUM(K62:K69) -> 0
A71: 5 | B71: Patents awarded
A72: S.No. | B72: Name of Stream - Engineering/ Applied scienece/ Humanities | C72: Role: First inventor/co-inventor (Enter 1, else enter 2 ) | D72: Obtained/ Filed | E72: Patent Registered - National/ International | F72: Patent Type - Product/ Process | G72: Patent Title | H72: awarded / published (enter 1 for awarder, 2 for published) | I72: Patent Number | J72: Patent Grant Date dd/mm/yyyy | K72: Commercialized - Y/N | L72: Amount (Rs) | M72: Numer of inventors | N72: Points claimed
N74: =IF(AND(C74=1,H74=1), 8,0)+IF(AND(C74=2,H74=1), 8/M74,0) +IF(AND(C74=1,H74=2), 4,0)+IF(AND(C74=2,H74=2),4/M74,0) -> 0
N75: =IF(AND(C75=1,H75=1), 8,0)+IF(AND(C75=2,H75=1), 8/M75,0) +IF(AND(C75=1,H75=2), 4,0)+IF(AND(C75=2,H75=2),4/M75,0) -> 0
N76: =IF(AND(C76=1,H76=1), 8,0)+IF(AND(C76=2,H76=1), 8/M76,0) +IF(AND(C76=1,H76=2), 4,0)+IF(AND(C76=2,H76=2),4/M76,0) -> 0
A77: Total for the category | N77: =SUM(N73:N76) -> 0
A78: 6 | B78: Book publication
A79: S.No | B79: Book Type - Enter 1 for Book and 2 for Monograph/ Technical Report/Book Chapter Chapter/ Other | C79: ISBN/ ACCN No | D79: Status: International/ national (enter 1 for international, 2 for national) | E79: Publisher Name | F79: Publication Date dd/mm/yyyy | G79: Title | I79: Co Author Name | J79: Points claimed
J80: =IF(AND(B80=1,D80=1),10,0)+IF(AND(B80=1,D80=2),5,0)+IF(B80=2,2.5,0) -> 0
J81: =IF(AND(B81=1,D81=1),10,0)+IF(AND(B81=1,D81=2),5,0)+IF(B81=2,2.5,0) -> 0
J82: =IF(AND(B82=1,D82=1),10,0)+IF(AND(B82=1,D82=2),5,0)+IF(B82=2,2.5,0) -> 0
J83: =IF(AND(B83=1,D83=1),10,0)+IF(AND(B83=1,D83=2),5,0)+IF(B83=2,2.5,0) -> 0
J84: =IF(AND(B84=1,D84=1),10,0)+IF(AND(B84=1,D84=2),5,0)+IF(B84=2,2.5,0) -> 0
J85: =IF(AND(B85=1,D85=1),10,0)+IF(AND(B85=1,D85=2),5,0)+IF(B85=2,2.5,0) -> 0
J86: =IF(AND(B86=1,D86=1),10,0)+IF(AND(B86=1,D86=2),5,0)+IF(B86=2,2.5,0) -> 0
J87: =IF(AND(B87=1,D87=1),10,0)+IF(AND(B87=1,D87=2),5,0)+IF(B87=2,2.5,0) -> 0
J88: =IF(AND(B88=1,D88=1),10,0)+IF(AND(B88=1,D88=2),5,0)+IF(B88=2,2.5,0) -> 0
J89: =IF(AND(B89=1,D89=1),10,0)+IF(AND(B89=1,D89=2),5,0)+IF(B89=2,2.5,0) -> 0
J90: =IF(AND(B90=1,D90=1),10,0)+IF(AND(B90=1,D90=2),5,0)+IF(B90=2,2.5,0) -> 0
J91: =IF(AND(B91=1,D91=1),10,0)+IF(AND(B91=1,D91=2),5,0)+IF(B91=2,2.5,0) -> 0
... J95: =IF(AND(B95=1,D95=1),10,0)+IF(AND(B95=1,D95=2),5,0)+IF(B95=2,2.5,0) -> 0
A96: Total for the category | J96: =SUM(J80:J95) -> 0

Sheet Output sheet
A1: NIT Raipur Best Researcher award
A2: National Institute of Technology Raipur Application format for Best Researcher Award Name of the Applicant:- Name of the Department:- Assesment Period: !st Nov. _____ to 31st Oct.______
A3: . | B3: Research Publications | C3: Points Claimed | D3: Points Verified
A4: 1 | B4: Research Supervision | C4: ='Best researcher award input she'!E13 -> 0
A7: 2 | B7: Journal Publications | C7: ='Best researcher award input she'!N37 -> 0
A10: 3 | B10: Conference Publication/ Presentation | C10: ='Best researcher award input she'!G59 -> 0
A12: 4 | B12: Externally Funded Research Project | C12: ='Best researcher award input she'!K70 -> 0
A14: 5 | B14: Patents Awarded/ Published(Award-8 pub-4.) | C14: ='Best researcher award input she'!N77 -> 0
A16: 6 | B16: Book Publication | C16: ='Best researcher award input she'!J96 -> 0
A19: Total | C19: =SUM(C4:C18) -> 0 | D19: =SUM(D4:D18) -> 0
C22: Faculty Name and Sign
C25: Recommended/ Not Recommended
C26: (Head of Department)
